BEGIN:VCALENDAR
VERSION:2.0
PRODID:-//Bureau of Justice Assistance//NONSGML Event Calendar//EN
BEGIN:VEVENT
UID:6ce2f7b1-4ecb-4225-a837-ea7c70a66857
DTSTART;TZID=UTC:20201110T160000
SEQUENCE:0
TRANSP:OPAQUE
DTEND;TZID=UTC:20201110T210000
LOCATION:https://www.bja.ojp.gov/events/destination-zero-conference-officer
 -safety-and-wellness
SUMMARY:Destination Zero Conference for Officer Safety and Wellness
CLASS:PUBLIC
DESCRIPTION:Learn more about this event: https://www.bja.ojp.gov/events/des
 tination-zero-conference-officer-safety-and-wellness
DTSTAMP:20260423T041956Z
END:VEVENT
END:VCALENDAR