BEGIN:VCALENDAR
VERSION:2.0
PRODID:-//Bureau of Justice Assistance//NONSGML Event Calendar//EN
BEGIN:VEVENT
UID:ecbaa2c8-6c27-4e51-82aa-b3cd869e98c5
DTSTART;TZID=UTC:20201204T141500
SEQUENCE:0
TRANSP:OPAQUE
DTEND;TZID=UTC:20201204T223000
LOCATION:https://www.bja.ojp.gov/events/2020-community-courts-and-public-sa
 fety-conference
SUMMARY:2020 Community Courts and Public Safety Conference
CLASS:PUBLIC
DESCRIPTION:Learn more about this event: https://www.bja.ojp.gov/events/202
 0-community-courts-and-public-safety-conference
DTSTAMP:20260423T000749Z
END:VEVENT
END:VCALENDAR