BEGIN:VCALENDAR
VERSION:2.0
PRODID:-//Bureau of Justice Assistance//NONSGML Event Calendar//EN
BEGIN:VEVENT
UID:094ac44b-a2e6-41cf-849e-cab67b983d69
DTSTART;TZID=UTC:20201123T190000
SEQUENCE:0
TRANSP:OPAQUE
DTEND;TZID=UTC:20201123T200000
LOCATION:https://www.bja.ojp.gov/events/making-data-driven-decisions-enhanc
 e-your-diversion-or-deflection-program
SUMMARY:Making Data-Driven Decisions to Enhance Your Diversion or Deflectio
 n Program
CLASS:PUBLIC
DESCRIPTION:Learn more about this event: https://www.bja.ojp.gov/events/mak
 ing-data-driven-decisions-enhance-your-diversion-or-deflection-program
DTSTAMP:20260420T052604Z
END:VEVENT
END:VCALENDAR