BEGIN:VCALENDAR
VERSION:2.0
PRODID:-//Bureau of Justice Assistance//NONSGML Event Calendar//EN
BEGIN:VEVENT
UID:ef322d6f-8a6c-41b0-82f3-10b1acaadcae
DTSTART;TZID=UTC:20201117T180000
SEQUENCE:0
TRANSP:OPAQUE
DTEND;TZID=UTC:20201117T193000
LOCATION:https://www.bja.ojp.gov/events/criminal-justice-early-release-inca
 rcerated-individuals-substance-use-disorder-sud-response
SUMMARY:Criminal Justice Early Release of Incarcerated Individuals with Sub
 stance Use Disorder (SUD) in Response to COVID-19: Strategies for Rural Co
 mmunities
CLASS:PUBLIC
DESCRIPTION:Learn more about this event: https://www.bja.ojp.gov/events/cri
 minal-justice-early-release-incarcerated-individuals-substance-use-disorde
 r-sud-response
DTSTAMP:20260422T215746Z
END:VEVENT
END:VCALENDAR