BEGIN:VCALENDAR
VERSION:2.0
PRODID:-//Bureau of Justice Assistance//NONSGML Event Calendar//EN
BEGIN:VEVENT
UID:f611a1aa-0e7f-4be6-95cf-559743c97f95
DTSTART;TZID=UTC:20201201T160000
SEQUENCE:0
TRANSP:OPAQUE
DTEND;TZID=UTC:20201201T173000
LOCATION:https://www.bja.ojp.gov/events/calmiscontagious-calmiscourageous
SUMMARY:#CalmIsContagious #CalmIsCourageous
CLASS:PUBLIC
DESCRIPTION:Learn more about this event: https://www.bja.ojp.gov/events/cal
 miscontagious-calmiscourageous
DTSTAMP:20260423T014423Z
END:VEVENT
END:VCALENDAR