BEGIN:VCALENDAR
VERSION:2.0
PRODID:-//Bureau of Justice Assistance//NONSGML Event Calendar//EN
BEGIN:VEVENT
UID:4957a5aa-b8c6-47ff-8f5c-20981f176b91
DTSTART;TZID=UTC:20210202T200000
SEQUENCE:0
TRANSP:OPAQUE
DTEND;TZID=UTC:20210202T210000
LOCATION:https://www.bja.ojp.gov/events/tribal-justice-system-infrastructur
 e-training-and-technical-assistance-initiative-funding
SUMMARY:Tribal Justice System Infrastructure Training and Technical Assista
 nce Initiative Funding Webinar
CLASS:PUBLIC
DESCRIPTION:Learn more about this event: https://www.bja.ojp.gov/events/tri
 bal-justice-system-infrastructure-training-and-technical-assistance-initia
 tive-funding
DTSTAMP:20260422T230808Z
END:VEVENT
END:VCALENDAR