BEGIN:VCALENDAR
VERSION:2.0
PRODID:-//Bureau of Justice Assistance//NONSGML Event Calendar//EN
BEGIN:VEVENT
UID:c1d340db-0ea4-48f6-9462-c1eb563d94d9
DTSTART;TZID=UTC:20210225T180000
SEQUENCE:0
TRANSP:OPAQUE
DTEND;TZID=UTC:20210225T190000
LOCATION:https://www.bja.ojp.gov/events/safeguarding-correctional-facilitie
 s-and-public-safety-addressing-contraband-cellphones
SUMMARY:Safeguarding Correctional Facilities and Public Safety by Addressin
 g Contraband Cellphones Program Funding Webinar
CLASS:PUBLIC
DESCRIPTION:Learn more about this event: https://www.bja.ojp.gov/events/saf
 eguarding-correctional-facilities-and-public-safety-addressing-contraband-
 cellphones
DTSTAMP:20260422T233025Z
END:VEVENT
END:VCALENDAR