BEGIN:VCALENDAR
VERSION:2.0
PRODID:-//Bureau of Justice Assistance//NONSGML Event Calendar//EN
BEGIN:VEVENT
UID:333deea4-f68f-4dd0-a4d6-bf5ea1cfce82
DTSTART;TZID=UTC:20210202T180000
SEQUENCE:0
TRANSP:OPAQUE
DTEND;TZID=UTC:20210202T220000
LOCATION:https://www.bja.ojp.gov/events/coordinated-tribal-assistance-solic
 itation-building-strong-grant-applications
SUMMARY:Coordinated Tribal Assistance Solicitation: Building Strong Grant A
 pplications
CLASS:PUBLIC
DESCRIPTION:Learn more about this event: https://www.bja.ojp.gov/events/coo
 rdinated-tribal-assistance-solicitation-building-strong-grant-applications
DTSTAMP:20260422T214909Z
END:VEVENT
END:VCALENDAR