BEGIN:VCALENDAR
VERSION:2.0
PRODID:-//Bureau of Justice Assistance//NONSGML Event Calendar//EN
BEGIN:VEVENT
UID:4c8766f5-d8d3-444b-9867-3ec4fe6c11fe
DTSTART;TZID=UTC:20210204T190000
SEQUENCE:0
TRANSP:OPAQUE
DTEND;TZID=UTC:20210204T203000
LOCATION:https://www.bja.ojp.gov/events/coordinated-tribal-assistance-solic
 itation-justgrants-and-submitting-application
SUMMARY:Coordinated Tribal Assistance Solicitation: JustGrants and Submitti
 ng an Application
CLASS:PUBLIC
DESCRIPTION:Learn more about this event: https://www.bja.ojp.gov/events/coo
 rdinated-tribal-assistance-solicitation-justgrants-and-submitting-applicat
 ion
DTSTAMP:20260422T214909Z
END:VEVENT
END:VCALENDAR