BEGIN:VCALENDAR
VERSION:2.0
PRODID:-//Bureau of Justice Assistance//NONSGML Event Calendar//EN
BEGIN:VEVENT
UID:e3a2bff7-d423-481b-bd19-786eff74497b
DTSTART;TZID=UTC:20210208T200000
SEQUENCE:0
TRANSP:OPAQUE
DTEND;TZID=UTC:20210208T210000
LOCATION:https://www.bja.ojp.gov/events/telehealth-implementation-support-t
 ool-demonstration
SUMMARY:Telehealth Implementation Support Tool Demonstration
CLASS:PUBLIC
DESCRIPTION:Learn more about this event: https://www.bja.ojp.gov/events/tel
 ehealth-implementation-support-tool-demonstration
DTSTAMP:20260423T005816Z
END:VEVENT
END:VCALENDAR