BEGIN:VCALENDAR
VERSION:2.0
PRODID:-//Bureau of Justice Assistance//NONSGML Event Calendar//EN
BEGIN:VEVENT
UID:cb11a8c8-f95c-4d00-9a6a-7bafaeb8813c
DTSTART;TZID=UTC:20210204T160000
SEQUENCE:0
TRANSP:OPAQUE
DTEND;TZID=UTC:20210204T173000
LOCATION:https://www.bja.ojp.gov/events/calmiscourageous
SUMMARY:#CalmIsCourageous
CLASS:PUBLIC
DESCRIPTION:Learn more about this event: https://www.bja.ojp.gov/events/cal
 miscourageous
DTSTAMP:20260423T014311Z
END:VEVENT
END:VCALENDAR