BEGIN:VCALENDAR
VERSION:2.0
PRODID:-//Bureau of Justice Assistance//NONSGML Event Calendar//EN
BEGIN:VEVENT
UID:dc66d75d-9398-4dc1-8d58-65df011871d4
DTSTART;TZID=UTC:20210203T190000
SEQUENCE:0
TRANSP:OPAQUE
DTEND;TZID=UTC:20210203T200000
LOCATION:https://www.bja.ojp.gov/events/fundamentals-effective-task-force-o
 perations
SUMMARY:Fundamentals of Effective Task Force Operations
CLASS:PUBLIC
DESCRIPTION:Learn more about this event: https://www.bja.ojp.gov/events/fun
 damentals-effective-task-force-operations
DTSTAMP:20260425T225627Z
END:VEVENT
END:VCALENDAR