BEGIN:VCALENDAR
VERSION:2.0
PRODID:-//Bureau of Justice Assistance//NONSGML Event Calendar//EN
BEGIN:VEVENT
UID:8ba662f6-edbc-4d35-83f5-5124bf335b00
DTSTART;TZID=UTC:20210209T190000
SEQUENCE:0
TRANSP:OPAQUE
DTEND;TZID=UTC:20210209T200000
LOCATION:https://www.bja.ojp.gov/events/adult-drug-court-and-veterans-treat
 ment-court-grant-funding-opportunity-tribes
SUMMARY:Adult Drug Court and Veterans Treatment Court Grant: Funding Opport
 unity for Tribes
CLASS:PUBLIC
DESCRIPTION:Learn more about this event: https://www.bja.ojp.gov/events/adu
 lt-drug-court-and-veterans-treatment-court-grant-funding-opportunity-tribe
 s
DTSTAMP:20260423T045947Z
END:VEVENT
END:VCALENDAR