BEGIN:VCALENDAR
VERSION:2.0
PRODID:-//Bureau of Justice Assistance//NONSGML Event Calendar//EN
BEGIN:VEVENT
UID:a5b5cca0-904d-41d1-ae4f-c86a60eeb897
DTSTART;TZID=UTC:20210218T180000
SEQUENCE:0
TRANSP:OPAQUE
DTEND;TZID=UTC:20210218T190000
LOCATION:https://www.bja.ojp.gov/events/body-worn-camera-footage-what-do-we
 -do-all-evidence-part-i
SUMMARY:Body-Worn Camera Footage: What Do We Do With All of That Evidence? 
 (Part I)
CLASS:PUBLIC
DESCRIPTION:Learn more about this event: https://www.bja.ojp.gov/events/bod
 y-worn-camera-footage-what-do-we-do-all-evidence-part-i
DTSTAMP:20260423T003526Z
END:VEVENT
END:VCALENDAR