BEGIN:VCALENDAR
VERSION:2.0
PRODID:-//Bureau of Justice Assistance//NONSGML Event Calendar//EN
BEGIN:VEVENT
UID:1ca01ab5-8c34-479e-a143-8ad637397694
DTSTART;TZID=UTC:20210225T190000
SEQUENCE:0
TRANSP:OPAQUE
DTEND;TZID=UTC:20210225T200000
LOCATION:https://www.bja.ojp.gov/events/innovative-ems-response-overdoses-b
 eyond-naloxone
SUMMARY:Innovative EMS Response to Overdoses—Beyond Naloxone
CLASS:PUBLIC
DESCRIPTION:Learn more about this event: https://www.bja.ojp.gov/events/inn
 ovative-ems-response-overdoses-beyond-naloxone
DTSTAMP:20260422T214915Z
END:VEVENT
END:VCALENDAR