BEGIN:VCALENDAR
VERSION:2.0
PRODID:-//Bureau of Justice Assistance//NONSGML Event Calendar//EN
BEGIN:VEVENT
UID:a969a597-3cd0-4fe0-9344-4174c72e72f2
DTSTART;TZID=UTC:20210302T190000
SEQUENCE:0
TRANSP:OPAQUE
DTEND;TZID=UTC:20210302T200000
LOCATION:https://www.bja.ojp.gov/events/fy-2021-byrne-criminal-justice-inno
 vation-solicitation-webinar
SUMMARY:FY 2021 Byrne Criminal Justice Innovation Solicitation Webinar
CLASS:PUBLIC
DESCRIPTION:Learn more about this event: https://www.bja.ojp.gov/events/fy-
 2021-byrne-criminal-justice-innovation-solicitation-webinar
DTSTAMP:20260423T023940Z
END:VEVENT
END:VCALENDAR