BEGIN:VCALENDAR
VERSION:2.0
PRODID:-//Bureau of Justice Assistance//NONSGML Event Calendar//EN
BEGIN:VEVENT
UID:fb9f372b-7f80-4f80-9220-0fbe0e3b6e03
DTSTART;TZID=UTC:20210224T200000
SEQUENCE:0
TRANSP:OPAQUE
DTEND;TZID=UTC:20210224T210000
LOCATION:https://www.bja.ojp.gov/events/operationalizing-evidence-based-sch
 ool-safety-programs
SUMMARY:Operationalizing Evidence-Based School Safety Programs
CLASS:PUBLIC
DESCRIPTION:Learn more about this event: https://www.bja.ojp.gov/events/ope
 rationalizing-evidence-based-school-safety-programs
DTSTAMP:20260415T180935Z
END:VEVENT
END:VCALENDAR