BEGIN:VCALENDAR
VERSION:2.0
PRODID:-//Bureau of Justice Assistance//NONSGML Event Calendar//EN
BEGIN:VEVENT
UID:dfb0f393-bb2b-4356-8a33-a2bac3e68df0
DTSTART;TZID=UTC:20210303T180000
SEQUENCE:0
TRANSP:OPAQUE
DTEND;TZID=UTC:20210303T190000
LOCATION:https://www.bja.ojp.gov/events/engaging-stakeholders-school-safety
 -program-planning
SUMMARY:Engaging Stakeholders in School Safety Program Planning
CLASS:PUBLIC
DESCRIPTION:Learn more about this event: https://www.bja.ojp.gov/events/eng
 aging-stakeholders-school-safety-program-planning
DTSTAMP:20260422T224430Z
END:VEVENT
END:VCALENDAR