BEGIN:VCALENDAR
VERSION:2.0
PRODID:-//Bureau of Justice Assistance//NONSGML Event Calendar//EN
BEGIN:VEVENT
UID:fa4e2725-62f1-4659-b110-3db4027fc2ef
DTSTART;TZID=UTC:20210310T200000
SEQUENCE:0
TRANSP:OPAQUE
DTEND;TZID=UTC:20210310T210000
LOCATION:https://www.bja.ojp.gov/events/sustaining-school-safety-programs
SUMMARY:Sustaining School Safety Programs
CLASS:PUBLIC
DESCRIPTION:Learn more about this event: https://www.bja.ojp.gov/events/sus
 taining-school-safety-programs
DTSTAMP:20260422T211556Z
END:VEVENT
END:VCALENDAR