BEGIN:VCALENDAR
VERSION:2.0
PRODID:-//Bureau of Justice Assistance//NONSGML Event Calendar//EN
BEGIN:VEVENT
UID:89aae734-4397-43f0-8082-f51ee8fc7a8b
DTSTART;TZID=UTC:20210317T180000
SEQUENCE:0
TRANSP:OPAQUE
DTEND;TZID=UTC:20210317T191500
LOCATION:https://www.bja.ojp.gov/events/becoming-trauma-informed-understand
 ing-ace-study
SUMMARY:Becoming Trauma Informed: Understanding the ACE Study
CLASS:PUBLIC
DESCRIPTION:Learn more about this event: https://www.bja.ojp.gov/events/bec
 oming-trauma-informed-understanding-ace-study
DTSTAMP:20260423T002035Z
END:VEVENT
END:VCALENDAR