BEGIN:VCALENDAR
VERSION:2.0
PRODID:-//Bureau of Justice Assistance//NONSGML Event Calendar//EN
BEGIN:VEVENT
UID:fcf5dad0-bc50-40e3-a15a-2eeab3535780
DTSTART;TZID=UTC:20210414T180000
SEQUENCE:0
TRANSP:OPAQUE
DTEND;TZID=UTC:20210414T191500
LOCATION:https://www.bja.ojp.gov/events/trauma-specific-services-programs-w
 ork
SUMMARY:Trauma-specific Services: Programs that Work
CLASS:PUBLIC
DESCRIPTION:Learn more about this event: https://www.bja.ojp.gov/events/tra
 uma-specific-services-programs-work
DTSTAMP:20260423T002035Z
END:VEVENT
END:VCALENDAR