BEGIN:VCALENDAR
VERSION:2.0
PRODID:-//Bureau of Justice Assistance//NONSGML Event Calendar//EN
BEGIN:VEVENT
UID:ab141d30-e8eb-4823-a15a-bf095730a6f3
DTSTART;TZID=UTC:20210413T170000
SEQUENCE:0
TRANSP:OPAQUE
DTEND;TZID=UTC:20210413T183000
LOCATION:https://www.bja.ojp.gov/events/leading-times-trauma-creating-workp
 lace-resiliency-and-managing-work-related-stress
SUMMARY:Leading in Times of Trauma: Creating Workplace Resiliency and Manag
 ing Work Related Stress
CLASS:PUBLIC
DESCRIPTION:Learn more about this event: https://www.bja.ojp.gov/events/lea
 ding-times-trauma-creating-workplace-resiliency-and-managing-work-related-
 stress
DTSTAMP:20260422T194037Z
END:VEVENT
END:VCALENDAR