BEGIN:VCALENDAR
VERSION:2.0
PRODID:-//Bureau of Justice Assistance//NONSGML Event Calendar//EN
BEGIN:VEVENT
UID:7d5229b9-748d-47fb-a67a-ae4528434281
DTSTART;TZID=UTC:20210428T170000
SEQUENCE:0
TRANSP:OPAQUE
DTEND;TZID=UTC:20210428T183000
LOCATION:https://www.bja.ojp.gov/events/integrating-peer-supports-treatment
 -and-recovery-courts
SUMMARY:Integrating Peer Supports in Treatment and Recovery Courts
CLASS:PUBLIC
DESCRIPTION:Learn more about this event: https://www.bja.ojp.gov/events/int
 egrating-peer-supports-treatment-and-recovery-courts
DTSTAMP:20260420T040519Z
END:VEVENT
END:VCALENDAR