BEGIN:VCALENDAR
VERSION:2.0
PRODID:-//Bureau of Justice Assistance//NONSGML Event Calendar//EN
BEGIN:VEVENT
UID:a566f01e-7398-4966-af5b-0fc5d99e3246
DTSTART;TZID=UTC:20210428T170000
SEQUENCE:0
TRANSP:OPAQUE
DTEND;TZID=UTC:20210428T180000
LOCATION:https://www.bja.ojp.gov/events/using-distance-based-child-parent-e
 ngagement-strategies-correctional-facilities
SUMMARY:Using Distance-Based Child-Parent Engagement Strategies in ﻿Corre
 ctional Facilities
CLASS:PUBLIC
DESCRIPTION:Learn more about this event: https://www.bja.ojp.gov/events/usi
 ng-distance-based-child-parent-engagement-strategies-correctional-faciliti
 es
DTSTAMP:20260422T212534Z
END:VEVENT
END:VCALENDAR