BEGIN:VCALENDAR
VERSION:2.0
PRODID:-//Bureau of Justice Assistance//NONSGML Event Calendar//EN
BEGIN:VEVENT
UID:4ac5644a-922b-4181-accc-e47744408ec5
DTSTART;TZID=UTC:20210426T190000
SEQUENCE:0
TRANSP:OPAQUE
DTEND;TZID=UTC:20210426T203000
LOCATION:https://www.bja.ojp.gov/events/sex-trafficking-and-indian-country
SUMMARY:Sex Trafficking and Indian Country
CLASS:PUBLIC
DESCRIPTION:Learn more about this event: https://www.bja.ojp.gov/events/sex
 -trafficking-and-indian-country
DTSTAMP:20260422T212542Z
END:VEVENT
END:VCALENDAR