BEGIN:VCALENDAR
VERSION:2.0
PRODID:-//Bureau of Justice Assistance//NONSGML Event Calendar//EN
BEGIN:VEVENT
UID:540307b2-23d1-46ff-b351-bd604151610c
DTSTART;TZID=UTC:20210513T190000
SEQUENCE:0
TRANSP:OPAQUE
DTEND;TZID=UTC:20210513T203000
LOCATION:https://www.bja.ojp.gov/events/sex-trafficking-and-indian-country-
 0
SUMMARY:Sex Trafficking and Indian Country
CLASS:PUBLIC
DESCRIPTION:Learn more about this event: https://www.bja.ojp.gov/events/sex
 -trafficking-and-indian-country-0
DTSTAMP:20260422T212434Z
END:VEVENT
END:VCALENDAR