BEGIN:VCALENDAR
VERSION:2.0
PRODID:-//Bureau of Justice Assistance//NONSGML Event Calendar//EN
BEGIN:VEVENT
UID:29ab382c-d7b2-4457-89f0-282921685668
DTSTART;TZID=UTC:20210518T180000
SEQUENCE:0
TRANSP:OPAQUE
DTEND;TZID=UTC:20210518T190000
LOCATION:https://www.bja.ojp.gov/events/fy-2021-cossap-site-based-solicitat
 ion-webinar
SUMMARY:FY 2021 Comprehensive Opioid\, Stimulant\, and Substance Abuse Site
 -based Program Solicitation Webinar
CLASS:PUBLIC
DESCRIPTION:Learn more about this event: https://www.bja.ojp.gov/events/fy-
 2021-cossap-site-based-solicitation-webinar
DTSTAMP:20260422T233111Z
END:VEVENT
END:VCALENDAR