BEGIN:VCALENDAR
VERSION:2.0
PRODID:-//Bureau of Justice Assistance//NONSGML Event Calendar//EN
BEGIN:VEVENT
UID:2686fa96-225e-4b9e-b54b-555ec09eb740
DTSTART;VALUE=DATE:20210621
SEQUENCE:0
TRANSP:OPAQUE
DTEND;VALUE=DATE:20210626
LOCATION:https://www.bja.ojp.gov/events/tribal-healing-wellness-court-virtu
 al-enhancement-training-0
SUMMARY:Tribal Healing to Wellness Court Virtual Enhancement Training
CLASS:PUBLIC
DESCRIPTION:Learn more about this event: https://www.bja.ojp.gov/events/tri
 bal-healing-wellness-court-virtual-enhancement-training-0
X-MICROSOFT-CDO-ALLDAYEVENT:TRUE
DTSTAMP:20260420T040502Z
END:VEVENT
END:VCALENDAR