BEGIN:VCALENDAR
VERSION:2.0
PRODID:-//Bureau of Justice Assistance//NONSGML Event Calendar//EN
BEGIN:VEVENT
UID:1fb65377-8270-4fd0-8d4c-2595d74f53e8
DTSTART;TZID=UTC:20210603T170000
SEQUENCE:0
TRANSP:OPAQUE
DTEND;TZID=UTC:20210603T180000
LOCATION:https://www.bja.ojp.gov/events/justice-reinvestment-initiative-sit
 e-based-state-level
SUMMARY:Justice Reinvestment Initiative - Site Based & State-Level
CLASS:PUBLIC
DESCRIPTION:Learn more about this event: https://www.bja.ojp.gov/events/jus
 tice-reinvestment-initiative-site-based-state-level
DTSTAMP:20260422T233111Z
END:VEVENT
END:VCALENDAR