BEGIN:VCALENDAR
VERSION:2.0
PRODID:-//Bureau of Justice Assistance//NONSGML Event Calendar//EN
BEGIN:VEVENT
UID:bcaced39-531b-467c-8904-579e81bfdf6a
DTSTART;TZID=UTC:20210608T170000
SEQUENCE:0
TRANSP:OPAQUE
DTEND;TZID=UTC:20210608T180000
LOCATION:https://www.bja.ojp.gov/events/fy-2021-smart-policing-initiative-g
 rant-program
SUMMARY:FY 2021 Smart Policing Initiative Grant Program
CLASS:PUBLIC
DESCRIPTION:Learn more about this event: https://www.bja.ojp.gov/events/fy-
 2021-smart-policing-initiative-grant-program
DTSTAMP:20260422T233111Z
END:VEVENT
END:VCALENDAR