BEGIN:VCALENDAR
VERSION:2.0
PRODID:-//Bureau of Justice Assistance//NONSGML Event Calendar//EN
BEGIN:VEVENT
UID:9e898963-9b60-4d23-88bc-39244226febb
DTSTART;TZID=UTC:20210616T170000
SEQUENCE:0
TRANSP:OPAQUE
DTEND;TZID=UTC:20210616T190000
LOCATION:https://www.bja.ojp.gov/events/future-teleservices-drug-courts-par
 t-i-where-are-we-now-recent-developments-and-emerging
SUMMARY:The Future of Teleservices in Drug Courts: Part I - Where Are We No
 w? Recent Developments and Emerging Opportunities
CLASS:PUBLIC
DESCRIPTION:Learn more about this event: https://www.bja.ojp.gov/events/fut
 ure-teleservices-drug-courts-part-i-where-are-we-now-recent-developments-a
 nd-emerging
DTSTAMP:20260420T035935Z
END:VEVENT
END:VCALENDAR