BEGIN:VCALENDAR
VERSION:2.0
PRODID:-//Bureau of Justice Assistance//NONSGML Event Calendar//EN
BEGIN:VEVENT
UID:1889164f-791f-459e-a49f-b1f607a1d9f6
DTSTART;TZID=UTC:20210630T170000
SEQUENCE:0
TRANSP:OPAQUE
DTEND;TZID=UTC:20210630T190000
LOCATION:https://www.bja.ojp.gov/events/future-teleservices-drug-courts-par
 t-ii-planning-teleservices-assessing-needs-and
SUMMARY:The Future of Teleservices in Drug Courts: Part II - Planning for T
 eleservices—Assessing Needs and Identifying Opportunities
CLASS:PUBLIC
DESCRIPTION:Learn more about this event: https://www.bja.ojp.gov/events/fut
 ure-teleservices-drug-courts-part-ii-planning-teleservices-assessing-needs
 -and
DTSTAMP:20260420T035934Z
END:VEVENT
END:VCALENDAR