BEGIN:VCALENDAR
VERSION:2.0
PRODID:-//Bureau of Justice Assistance//NONSGML Event Calendar//EN
BEGIN:VEVENT
UID:e6ac111a-3aa6-4aac-b7d2-08949d293941
DTSTART;TZID=UTC:20210721T170000
SEQUENCE:0
TRANSP:OPAQUE
DTEND;TZID=UTC:20210723T190000
LOCATION:https://www.bja.ojp.gov/events/future-teleservices-drug-courts-par
 t-iii-implementing-teleservices-court-proceedings-and
SUMMARY:The Future of Teleservices in Drug Courts: Part III - Implementing 
 Teleservices for Court Proceedings and Treatment
CLASS:PUBLIC
DESCRIPTION:Learn more about this event: https://www.bja.ojp.gov/events/fut
 ure-teleservices-drug-courts-part-iii-implementing-teleservices-court-proc
 eedings-and
DTSTAMP:20260420T040012Z
END:VEVENT
END:VCALENDAR