BEGIN:VCALENDAR
VERSION:2.0
PRODID:-//Bureau of Justice Assistance//NONSGML Event Calendar//EN
BEGIN:VEVENT
UID:b4e8f539-ca12-4635-bcd8-f0f349655237
DTSTART;TZID=UTC:20210526T180000
SEQUENCE:0
TRANSP:OPAQUE
DTEND;TZID=UTC:20210526T190000
LOCATION:https://www.bja.ojp.gov/events/introduction-national-public-safety
 -partnership-psp
SUMMARY:An Introduction to the National Public Safety Partnership (PSP)
CLASS:PUBLIC
DESCRIPTION:Learn more about this event: https://www.bja.ojp.gov/events/int
 roduction-national-public-safety-partnership-psp
DTSTAMP:20260422T232336Z
END:VEVENT
END:VCALENDAR