BEGIN:VCALENDAR
VERSION:2.0
PRODID:-//Bureau of Justice Assistance//NONSGML Event Calendar//EN
BEGIN:VEVENT
UID:4fb25542-e1e4-4b72-96b2-ff0a3a85e8e3
DTSTART;TZID=UTC:20210601T170000
SEQUENCE:0
TRANSP:OPAQUE
DTEND;TZID=UTC:20210601T180000
LOCATION:https://www.bja.ojp.gov/events/economic-high-technology-white-coll
 ar-and-internet-crime-prevention-national-training-and
SUMMARY:Economic\, High-Technology\, White Collar\, and Internet Crime Prev
 ention National Training and Technical Assistance Solicitation
CLASS:PUBLIC
DESCRIPTION:Learn more about this event: https://www.bja.ojp.gov/events/eco
 nomic-high-technology-white-collar-and-internet-crime-prevention-national-
 training-and
DTSTAMP:20260422T214950Z
END:VEVENT
END:VCALENDAR