BEGIN:VCALENDAR
VERSION:2.0
PRODID:-//Bureau of Justice Assistance//NONSGML Event Calendar//EN
BEGIN:VEVENT
UID:fdc60281-f81c-4752-be42-c0a1b9560e6a
DTSTART;TZID=UTC:20210617T180000
SEQUENCE:0
TRANSP:OPAQUE
DTEND;TZID=UTC:20210617T190000
LOCATION:https://www.bja.ojp.gov/events/we-are-better-together-partnering-y
 outh-affected-parental-drug-use-meet-their-needs
SUMMARY:We Are Better Together: Partnering With Youth Affected by Parental 
 Drug Use to Meet Their Needs
CLASS:PUBLIC
DESCRIPTION:Learn more about this event: https://www.bja.ojp.gov/events/we-
 are-better-together-partnering-youth-affected-parental-drug-use-meet-their
 -needs
DTSTAMP:20260422T212535Z
END:VEVENT
END:VCALENDAR