BEGIN:VCALENDAR
VERSION:2.0
PRODID:-//Bureau of Justice Assistance//NONSGML Event Calendar//EN
BEGIN:VEVENT
UID:c4d08a46-ee1e-4545-9d14-748a1bd4a940
DTSTART;TZID=UTC:20210629T160000
SEQUENCE:0
TRANSP:OPAQUE
DTEND;TZID=UTC:20210629T170000
LOCATION:https://www.bja.ojp.gov/events/fy-2021-body-worn-camera-policy-and
 -implementation-program-bwcpip-support-law-enforcement
SUMMARY:FY 2021 Body-Worn Camera Policy and Implementation Program (BWCPIP)
  to Support Law Enforcement Agencies Solicitation Webinar
CLASS:PUBLIC
DESCRIPTION:Learn more about this event: https://www.bja.ojp.gov/events/fy-
 2021-body-worn-camera-policy-and-implementation-program-bwcpip-support-law
 -enforcement
DTSTAMP:20260422T231509Z
END:VEVENT
END:VCALENDAR