BEGIN:VCALENDAR
VERSION:2.0
PRODID:-//Bureau of Justice Assistance//NONSGML Event Calendar//EN
BEGIN:VEVENT
UID:0a657f51-0dca-4f2e-95d0-d52843dce938
DTSTART;TZID=UTC:20210624T180000
SEQUENCE:0
TRANSP:OPAQUE
DTEND;TZID=UTC:20210624T193000
LOCATION:https://www.bja.ojp.gov/events/application-mechanics-submitting-ap
 plication-jag-applicants
SUMMARY:Application Mechanics: Submitting an Application - JAG Applicants
CLASS:PUBLIC
DESCRIPTION:Learn more about this event: https://www.bja.ojp.gov/events/app
 lication-mechanics-submitting-application-jag-applicants
DTSTAMP:20260422T214934Z
END:VEVENT
END:VCALENDAR