BEGIN:VCALENDAR
VERSION:2.0
PRODID:-//Bureau of Justice Assistance//NONSGML Event Calendar//EN
BEGIN:VEVENT
UID:4120f4d6-c210-4991-ad95-a4e52c628431
DTSTART;TZID=UTC:20210624T180000
SEQUENCE:0
TRANSP:OPAQUE
DTEND;TZID=UTC:20210624T190000
LOCATION:https://www.bja.ojp.gov/events/engaging-your-community-first-respo
 nder-strategies
SUMMARY:Engaging your Community: First Responder Strategies
CLASS:PUBLIC
DESCRIPTION:Learn more about this event: https://www.bja.ojp.gov/events/eng
 aging-your-community-first-responder-strategies
DTSTAMP:20260420T211606Z
END:VEVENT
END:VCALENDAR