BEGIN:VCALENDAR
VERSION:2.0
PRODID:-//Bureau of Justice Assistance//NONSGML Event Calendar//EN
BEGIN:VEVENT
UID:aab3c26d-3a59-4e86-8288-91f70f19d9e2
DTSTART;TZID=UTC:20210629T200000
SEQUENCE:0
TRANSP:OPAQUE
DTEND;TZID=UTC:20210629T210000
LOCATION:https://www.bja.ojp.gov/events/responding-2021-solicitation-connec
 t-and-protect-law-enforcement-behavioral-health-responses
SUMMARY:Responding to the 2021 Solicitation for Connect and Protect Law Enf
 orcement Behavioral Health Responses
CLASS:PUBLIC
DESCRIPTION:Learn more about this event: https://www.bja.ojp.gov/events/res
 ponding-2021-solicitation-connect-and-protect-law-enforcement-behavioral-h
 ealth-responses
DTSTAMP:20260423T021749Z
END:VEVENT
END:VCALENDAR