BEGIN:VCALENDAR
VERSION:2.0
PRODID:-//Bureau of Justice Assistance//NONSGML Event Calendar//EN
BEGIN:VEVENT
UID:fd7702e8-740c-4044-9894-11b6559c78a8
DTSTART;TZID=UTC:20210714T190000
SEQUENCE:0
TRANSP:OPAQUE
DTEND;TZID=UTC:20210714T200000
LOCATION:https://www.bja.ojp.gov/events/fy-2021-bja-visiting-fellows-progra
 m-solicitation-webinar
SUMMARY:FY 2021 BJA Visiting Fellows Program Solicitation Webinar
CLASS:PUBLIC
DESCRIPTION:Learn more about this event: https://www.bja.ojp.gov/events/fy-
 2021-bja-visiting-fellows-program-solicitation-webinar
DTSTAMP:20260420T070232Z
END:VEVENT
END:VCALENDAR