BEGIN:VCALENDAR
VERSION:2.0
PRODID:-//Bureau of Justice Assistance//NONSGML Event Calendar//EN
BEGIN:VEVENT
UID:639b2abf-139c-4a75-845d-d061e36a3d15
DTSTART;TZID=UTC:20210721T180000
SEQUENCE:0
TRANSP:OPAQUE
DTEND;TZID=UTC:20210721T193000
LOCATION:https://www.bja.ojp.gov/events/peer-recovery-support-services-trib
 al-communities
SUMMARY:Peer Recovery Support Services in Tribal Communities
CLASS:PUBLIC
DESCRIPTION:Learn more about this event: https://www.bja.ojp.gov/events/pee
 r-recovery-support-services-tribal-communities
DTSTAMP:20260422T214934Z
END:VEVENT
END:VCALENDAR