BEGIN:VCALENDAR
VERSION:2.0
PRODID:-//Bureau of Justice Assistance//NONSGML Event Calendar//EN
BEGIN:VEVENT
UID:063c4788-6017-4f72-91e0-ac3a15576fcd
DTSTART;TZID=UTC:20210721T180000
SEQUENCE:0
TRANSP:OPAQUE
DTEND;TZID=UTC:20210721T190000
LOCATION:https://www.bja.ojp.gov/events/leveraging-technology-and-innovatio
 n-reentry-support-and-success
SUMMARY:Leveraging Technology and Innovation for Reentry Support and Succes
 s
CLASS:PUBLIC
DESCRIPTION:Learn more about this event: https://www.bja.ojp.gov/events/lev
 eraging-technology-and-innovation-reentry-support-and-success
DTSTAMP:20260425T121158Z
END:VEVENT
END:VCALENDAR