BEGIN:VCALENDAR
VERSION:2.0
PRODID:-//Bureau of Justice Assistance//NONSGML Event Calendar//EN
BEGIN:VEVENT
UID:fdd41dd9-6916-4610-ad0e-e540ec770329
DTSTART;TZID=UTC:20210721T180000
SEQUENCE:0
TRANSP:OPAQUE
DTEND;TZID=UTC:20210721T190000
LOCATION:https://www.bja.ojp.gov/events/making-data-work-you
SUMMARY:Making Data Work for You
CLASS:PUBLIC
DESCRIPTION:Learn more about this event: https://www.bja.ojp.gov/events/mak
 ing-data-work-you
DTSTAMP:20260423T000737Z
END:VEVENT
END:VCALENDAR