BEGIN:VCALENDAR
VERSION:2.0
PRODID:-//Bureau of Justice Assistance//NONSGML Event Calendar//EN
BEGIN:VEVENT
UID:a6aa4a9d-4707-45da-821c-e3ca60fc9fde
DTSTART;TZID=UTC:20210728T180000
SEQUENCE:0
TRANSP:OPAQUE
DTEND;TZID=UTC:20210728T190000
LOCATION:https://www.bja.ojp.gov/events/enhancing-conviction-integrity-thro
 ugh-forensics-advancing-justice-dna-technologies
SUMMARY:Enhancing Conviction Integrity through Forensics - Advancing Justic
 e With DNA Technologies
CLASS:PUBLIC
DESCRIPTION:Learn more about this event: https://www.bja.ojp.gov/events/enh
 ancing-conviction-integrity-through-forensics-advancing-justice-dna-techno
 logies
DTSTAMP:20260423T003451Z
END:VEVENT
END:VCALENDAR