BEGIN:VCALENDAR
VERSION:2.0
PRODID:-//Bureau of Justice Assistance//NONSGML Event Calendar//EN
BEGIN:VEVENT
UID:deda0fc0-0c12-420e-bc8f-8079e1b3a379
DTSTART;TZID=UTC:20210804T180000
SEQUENCE:0
TRANSP:OPAQUE
DTEND;TZID=UTC:20210804T190000
LOCATION:https://www.bja.ojp.gov/events/incorporating-fentanyl-test-strips-
 community-substance-use-programming
SUMMARY:Incorporating Fentanyl Test Strips In Community Substance Use Progr
 amming
CLASS:PUBLIC
DESCRIPTION:Learn more about this event: https://www.bja.ojp.gov/events/inc
 orporating-fentanyl-test-strips-community-substance-use-programming
DTSTAMP:20260422T225841Z
END:VEVENT
END:VCALENDAR