BEGIN:VCALENDAR
VERSION:2.0
PRODID:-//Bureau of Justice Assistance//NONSGML Event Calendar//EN
BEGIN:VEVENT
UID:e580796a-5d7e-4bce-951f-aac9dd7630fd
DTSTART;TZID=UTC:20210729T183000
SEQUENCE:0
TRANSP:OPAQUE
DTEND;TZID=UTC:20210729T200000
LOCATION:https://www.bja.ojp.gov/events/how-certified-community-behavioral-
 health-clinics-support-people-criminal-justice-system
SUMMARY:How Certified Community Behavioral Health Clinics Support People in
  the Criminal Justice System
CLASS:PUBLIC
DESCRIPTION:Learn more about this event: https://www.bja.ojp.gov/events/how
 -certified-community-behavioral-health-clinics-support-people-criminal-jus
 tice-system
DTSTAMP:20260420T035856Z
END:VEVENT
END:VCALENDAR