BEGIN:VCALENDAR
VERSION:2.0
PRODID:-//Bureau of Justice Assistance//NONSGML Event Calendar//EN
BEGIN:VEVENT
UID:e9237af5-b5db-447d-b92a-f2c85f6673a9
DTSTART;TZID=UTC:20210730T170000
SEQUENCE:0
TRANSP:OPAQUE
DTEND;TZID=UTC:20210730T180000
LOCATION:https://www.bja.ojp.gov/events/fy-2021-collaborative-crisis-respon
 se-training-program-funding-webinar
SUMMARY:FY 2021 Collaborative Crisis Response Training Program Funding Webi
 nar
CLASS:PUBLIC
DESCRIPTION:Learn more about this event: https://www.bja.ojp.gov/events/fy-
 2021-collaborative-crisis-response-training-program-funding-webinar
DTSTAMP:20260420T224546Z
END:VEVENT
END:VCALENDAR