BEGIN:VCALENDAR
VERSION:2.0
PRODID:-//Bureau of Justice Assistance//NONSGML Event Calendar//EN
BEGIN:VEVENT
UID:ff44e555-b64f-43e2-909e-dec9251724a2
DTSTART;TZID=UTC:20210803T180000
SEQUENCE:0
TRANSP:OPAQUE
DTEND;TZID=UTC:20210803T191500
LOCATION:https://www.bja.ojp.gov/events/community-based-violence-interventi
 on-existing-programs
SUMMARY:Community-Based Violence Intervention: Existing Programs
CLASS:PUBLIC
DESCRIPTION:Learn more about this event: https://www.bja.ojp.gov/events/com
 munity-based-violence-intervention-existing-programs
DTSTAMP:20260422T225946Z
END:VEVENT
END:VCALENDAR