BEGIN:VCALENDAR
VERSION:2.0
PRODID:-//Bureau of Justice Assistance//NONSGML Event Calendar//EN
BEGIN:VEVENT
UID:2817372c-0386-4807-83b1-a6e91f7f937f
DTSTART;TZID=UTC:20210810T180000
SEQUENCE:0
TRANSP:OPAQUE
DTEND;TZID=UTC:20210810T191500
LOCATION:https://www.bja.ojp.gov/events/community-based-violence-interventi
 on-management-programs-staff-and-relationships
SUMMARY:Community-Based Violence Intervention: Management of Programs\, Sta
 ff and Relationships
CLASS:PUBLIC
DESCRIPTION:Learn more about this event: https://www.bja.ojp.gov/events/com
 munity-based-violence-intervention-management-programs-staff-and-relations
 hips
DTSTAMP:20260422T225946Z
END:VEVENT
END:VCALENDAR